BEGIN:VCALENDAR
VERSION:2.0
PRODID:-//Shiohum Business Publications Pvt Ltd - ECPv6.15.20//NONSGML v1.0//EN
CALSCALE:GREGORIAN
METHOD:PUBLISH
X-WR-CALNAME:Shiohum Business Publications Pvt Ltd
X-ORIGINAL-URL:https://electroniccity.net
X-WR-CALDESC:Events for Shiohum Business Publications Pvt Ltd
REFRESH-INTERVAL;VALUE=DURATION:PT1H
X-Robots-Tag:noindex
X-PUBLISHED-TTL:PT1H
BEGIN:VTIMEZONE
TZID:Asia/Kolkata
BEGIN:STANDARD
TZOFFSETFROM:+0530
TZOFFSETTO:+0530
TZNAME:IST
DTSTART:20230101T000000
END:STANDARD
END:VTIMEZONE
BEGIN:VEVENT
DTSTART;VALUE=DATE:20240829
DTEND;VALUE=DATE:20240901
DTSTAMP:20260422T072414
CREATED:20240527T113832Z
LAST-MODIFIED:20240527T113849Z
UID:3342-1724889600-1725148799@electroniccity.net
SUMMARY:ElectriExpo 2024
DESCRIPTION:Powering Progress – Pioneering Tomorrow Igniting Change\nIn an era defined by innovation and sustainability\, the electrical industry stands at the forefront of driving progress. Welcoming pioneers and visionaries from across the electrical\, LED\, solar\, and automation sectors\, ElectriExpo 2024 emerges as the epicenter for transformative ideas\, cutting-edge technologies\, and collaborative initiatives. Set to unfold from August 19th to 21st\, this electrifying event promises to be a pivotal moment in shaping the future landscape of energy and automation.
URL:https://electroniccity.net/event/3342/
LOCATION:HITEX EXHIBITION CENTER\, HITEX Exhibition Center\, Hitex Road\, Izzathnagar\, Kothaguda\, Hyderabad\, Telangana\, 500084\, India
CATEGORIES:Upcoming Expo's
ATTACH;FMTTYPE=image/jpeg:https://electroniccity.net/wp-content/uploads/2024/05/seta-electriexpo.jpg
ORGANIZER;CN="Secunderabad Electric Traders Association (SETA)":MAILTO:setaexpo@gmail.com
END:VEVENT
END:VCALENDAR