BEGIN:VCALENDAR
VERSION:2.0
PRODID:-//Shiohum Business Publications Pvt Ltd - ECPv6.15.20//NONSGML v1.0//EN
CALSCALE:GREGORIAN
METHOD:PUBLISH
X-WR-CALNAME:Shiohum Business Publications Pvt Ltd
X-ORIGINAL-URL:https://electroniccity.net
X-WR-CALDESC:Events for Shiohum Business Publications Pvt Ltd
REFRESH-INTERVAL;VALUE=DURATION:PT1H
X-Robots-Tag:noindex
X-PUBLISHED-TTL:PT1H
BEGIN:VTIMEZONE
TZID:Asia/Kolkata
BEGIN:STANDARD
TZOFFSETFROM:+0530
TZOFFSETTO:+0530
TZNAME:IST
DTSTART:20230101T000000
END:STANDARD
END:VTIMEZONE
BEGIN:VEVENT
DTSTART;VALUE=DATE:20241003
DTEND;VALUE=DATE:20241005
DTSTAMP:20260422T033700
CREATED:20240527T115312Z
LAST-MODIFIED:20240527T115416Z
UID:3356-1727913600-1728086399@electroniccity.net
SUMMARY:GH2 India 2024
DESCRIPTION:GH2 India 2024 will be the best opportunity in 2024 to engage directly with potential hydrogen buyers\, infrastructure\, energy and tech companies designing the supply chain. It will bring together key stakeholders and help fast track the growth in the hydrogen industry. \nEXHIBITOR PROFILE: \n\n\nLow-carbon hydrogen production\nStorage solutions\nInfrastructure solutions\nElectrolyzers\nEnergy conversion\nCompression technology\nCatalysts\nHydrogen from biomass\nHydrogen-Power and Power-to-X\nCarbon capture\, utilization and storage (CCUS) and hydrogen\nMembrane solutions\nStorage systems\nIndustrial plant technologies\n\n\n\n\nLiquefaction technologies\nAdvanced materials and composites\nGasification technology\nTest\, simulation and evaluation\nSafety systems\nHydrogen fuels\nHydrogen injectors\nLine assemblies\nFuel-cell control units\n\n\n\n\nHeating with hydrogen\nFuel cell components and auxiliaries\nThermal management\nElectrocatalysts\nFuel cell manufacturing and assembly\nRefueling solutions\nInternal combustion assistance (ICA) for cleaner diesel engines in HGVs\n\n 
URL:https://electroniccity.net/event/gh2-india-2024/
LOCATION:YASHOBHOOMI\, India International Convention & Expo Centre\, Sector 25\, Dwaraka\, New Delhi\, Delhi\, 110077\, India
CATEGORIES:Upcoming Expo's
ATTACH;FMTTYPE=image/jpeg:https://electroniccity.net/wp-content/uploads/2024/05/gh2india.jpg
END:VEVENT
BEGIN:VEVENT
DTSTART;VALUE=DATE:20241003
DTEND;VALUE=DATE:20241006
DTSTAMP:20260422T033700
CREATED:20240617T112512Z
LAST-MODIFIED:20240618T085545Z
UID:3429-1727913600-1728172799@electroniccity.net
SUMMARY:Renewable Energy India Expo 2024 - 17th Edition
DESCRIPTION:Renewable Energy India Expo popularly know as REI celebrated 16 glorious years of togetherness with the industry in Oct 2023. \nRenewable Energy India Expo popularly known as REI offers an all-inclusive platform to domestic and international manufacturers\, traders\, buyers and professionals from across the renewable energy domain. REI is recognized as Asia’s Leading b2b expo focusing on Solar Energy\, Wind Energy\, Bio-Energy\, Energy Storage and Electric Vehicles and charging infra. \nThe forthcoming 17th edition of REI Expo being held during 03-04-05 September 2024\, is estimated to attract over 800 Exhibitors\, 40\,000 trade visitors and esteemed policy-makers\, decision-makers\, influencers\, technical experts and professionals \n\nExhibitor Profile – Click Here\nExhibitor List 2024 – Click Here\nShow Directory 2023 – Click here\n\nVisitor Registration  – Click Here
URL:https://electroniccity.net/event/renewable-energy-india-expo-2024-17th-edition/
LOCATION:INDIA EXPO MART\, Knowledge Park II\, Greater Noida\, Uttar Pradesh\, 201310\, India
CATEGORIES:Upcoming Expo's
ATTACH;FMTTYPE=image/jpeg:https://electroniccity.net/wp-content/uploads/2024/06/reiexpo2024.jpg
ORGANIZER;CN="Informa Markets":MAILTO:pankaj.sharma@informa.com
END:VEVENT
END:VCALENDAR