BEGIN:VCALENDAR
VERSION:2.0
PRODID:-//Shiohum Business Publications Pvt Ltd - ECPv6.15.20//NONSGML v1.0//EN
CALSCALE:GREGORIAN
METHOD:PUBLISH
X-WR-CALNAME:Shiohum Business Publications Pvt Ltd
X-ORIGINAL-URL:https://electroniccity.net
X-WR-CALDESC:Events for Shiohum Business Publications Pvt Ltd
REFRESH-INTERVAL;VALUE=DURATION:PT1H
X-Robots-Tag:noindex
X-PUBLISHED-TTL:PT1H
BEGIN:VTIMEZONE
TZID:Asia/Kolkata
BEGIN:STANDARD
TZOFFSETFROM:+0530
TZOFFSETTO:+0530
TZNAME:IST
DTSTART:20240101T000000
END:STANDARD
END:VTIMEZONE
BEGIN:VEVENT
DTSTART;VALUE=DATE:20250213
DTEND;VALUE=DATE:20250216
DTSTAMP:20260421T201404
CREATED:20240617T113715Z
LAST-MODIFIED:20240617T113715Z
UID:3437-1739404800-1739663999@electroniccity.net
SUMMARY:7th Edition - RENEWABLE ENERGY EXPO
DESCRIPTION:We are glad to announce the 7th Edition of RENEWABLE ENERGY EXPO will be held on 13th\, 14th & 15th February 2025 at Chennai Trade Centre\, Nandambakkam\, Chennai. Organised by Renewable Energy Expo Team\, a division of WT\, the scope of exhibition is to stimulate the growth of renewable in the region through collaboration of technology and product sharing. This event will be bringing together businesses\, sustainable energy industry trade associations\, government agencies\, and energy policy research organizations to showcase the status and potential of the cross-section of renewable energy industry. The expo is proclaimed at the right time when there is a paradigm shift in the global trend towards massive deployment of solar power and other renewable along with investments worth billions of dollars in technology and green energy. \n\n\nOPPORTUNITIES GALORE FOR EXHIBITORS\n\n\n\n\nDiscover new markets\, business leads & prospective partnerships.\nIndustrial & Municipal buyers will find qualified suppliers.\nShowcase innovative products\, solutions and contemporary technologies\nBoost brand image & extent visibility to new heights.\nExplore new business avenues.\n\n\n\n\n\n\n\n\nA bridge between domestic & international markets.\nFinalise business deals\nA perfect meeting place for the prospective exhibitors and end-users\nIdeal forum for exhibitors to interact with end-users\, decision-makers\, consultants & industry experts from across the globe\n\n\n\n\n  \nVisitor Registration – CLICK HERE \nExhibitor Registration – CLICK HERE \n  \n\nWHY EXHIBIT\n\n\nParticipating in the Renewable Energy Expo in Sri Lanka is an excellent investment for businesses seeking to thrive in a dynamic and growing market. It offers a holistic platform to engage\, learn\, and capitalize on emerging opportunities in the Sri Lankan energy sector. The Expo offers a multitude of benefits for businesses looking to establish a presence\, grow their network\, and showcase their products or services.\n\n\n\n 
URL:https://electroniccity.net/event/7th-edition-renewable-energy-expo/
LOCATION:Chennai Trade Centre\, Nandambakkam\, Chennai\, Tamil Nadu\, 600089\, India
CATEGORIES:Upcoming Expo's
ATTACH;FMTTYPE=image/jpeg:https://electroniccity.net/wp-content/uploads/2024/06/renewable2025.jpg
ORGANIZER;CN="WATER TODAY PVT. LTD.":MAILTO:info@renewableenergyexpo.biz
END:VEVENT
END:VCALENDAR