BEGIN:VCALENDAR
VERSION:2.0
PRODID:-//Shiohum Business Publications Pvt Ltd - ECPv6.15.20//NONSGML v1.0//EN
CALSCALE:GREGORIAN
METHOD:PUBLISH
X-ORIGINAL-URL:https://electroniccity.net
X-WR-CALDESC:Events for Shiohum Business Publications Pvt Ltd
REFRESH-INTERVAL;VALUE=DURATION:PT1H
X-Robots-Tag:noindex
X-PUBLISHED-TTL:PT1H
BEGIN:VTIMEZONE
TZID:Asia/Kolkata
BEGIN:STANDARD
TZOFFSETFROM:+0530
TZOFFSETTO:+0530
TZNAME:IST
DTSTART:20230101T000000
END:STANDARD
END:VTIMEZONE
BEGIN:VEVENT
DTSTART;VALUE=DATE:20240911
DTEND;VALUE=DATE:20240914
DTSTAMP:20260422T072307
CREATED:20240527T114512Z
LAST-MODIFIED:20240902T082609Z
UID:3348-1726012800-1726271999@electroniccity.net
SUMMARY:electronica-India 2024
DESCRIPTION:As the South Asia’s leading trade fair for electronics\, every year electronica India provides a comprehensive update of the rapidly developing technology in all fields of electronics.
URL:https://electroniccity.net/event/electronica-india-2024/
LOCATION:INDIA EXPO MART\, Knowledge Park II\, Greater Noida\, Uttar Pradesh\, 201310\, India
CATEGORIES:Upcoming Expo's
ATTACH;FMTTYPE=image/jpeg:https://electroniccity.net/wp-content/uploads/2024/09/electronicapopup.jpg
ORGANIZER;CN="MESSE MUNCHEN INDIA":MAILTO:info@mm-india.in
END:VEVENT
BEGIN:VEVENT
DTSTART;VALUE=DATE:20240911
DTEND;VALUE=DATE:20240914
DTSTAMP:20260422T072307
CREATED:20240527T114649Z
LAST-MODIFIED:20240527T114649Z
UID:3353-1726012800-1726271999@electroniccity.net
SUMMARY:Productronica-India 2024
DESCRIPTION:Meet decision-makers from business and politics and exchange ideas with leading institutions\, companies and associations. The right place to set up and expand business in India.
URL:https://electroniccity.net/event/productronica-india-2024/
LOCATION:INDIA EXPO MART\, Knowledge Park II\, Greater Noida\, Uttar Pradesh\, 201310\, India
CATEGORIES:Upcoming Expo's
ATTACH;FMTTYPE=image/png:https://electroniccity.net/wp-content/uploads/2024/05/productronica-India.png
ORGANIZER;CN="MESSE MUNCHEN INDIA":MAILTO:info@mm-india.in
END:VEVENT
END:VCALENDAR