BEGIN:VCALENDAR
VERSION:2.0
PRODID:-//Shiohum Business Publications Pvt Ltd - ECPv6.15.20//NONSGML v1.0//EN
CALSCALE:GREGORIAN
METHOD:PUBLISH
X-ORIGINAL-URL:https://electroniccity.net
X-WR-CALDESC:Events for Shiohum Business Publications Pvt Ltd
REFRESH-INTERVAL;VALUE=DURATION:PT1H
X-Robots-Tag:noindex
X-PUBLISHED-TTL:PT1H
BEGIN:VTIMEZONE
TZID:Asia/Kolkata
BEGIN:STANDARD
TZOFFSETFROM:+0530
TZOFFSETTO:+0530
TZNAME:IST
DTSTART:20230101T000000
END:STANDARD
END:VTIMEZONE
BEGIN:VEVENT
DTSTART;VALUE=DATE:20241107
DTEND;VALUE=DATE:20241110
DTSTAMP:20260422T033311
CREATED:20240527T115931Z
LAST-MODIFIED:20240527T115931Z
UID:3362-1730937600-1731196799@electroniccity.net
SUMMARY:LASER World of PHOTONICS
DESCRIPTION:It started 1973 with LASER World of PHOTONICS in Munich—the world‘s leading platform of the laser and photonics industry—and the World of Photonics Congress—Europe’s largest photonics congress. \nIndia is emerging as a technology hub with its expertise in telecommunications\, electronics\, manufacturing\, automotive and ancillary segments.
URL:https://electroniccity.net/event/laser-world-of-photonics/
LOCATION:Jio World Convention Centre\, Jio World Centre\, G Block\, Bandra Kurla Complex\, Bandra East\, Mumbai\, Maharashtra\, 400098\, India
CATEGORIES:Upcoming Expo's
ATTACH;FMTTYPE=image/jpeg:https://electroniccity.net/wp-content/uploads/2023/12/laserphotonics.jpg
ORGANIZER;CN="MESSE MUNCHEN INDIA":MAILTO:info@mm-india.in
END:VEVENT
END:VCALENDAR